BEGIN:VCALENDAR
VERSION:2.0
CALSCALE:GREGORIAN
METHOD:PUBLISH
BEGIN:VEVENT
SUMMARY:La Soirée Squash de Front de Seine
DTSTART:20230601T163000Z
DTSTAMP:20260421T211251Z
CATEGORIES:
DESCRIPTION:\nLe 1er juin à 18h30\, Front de Seine a le plaisir de vous i
 nviter à une soirée exceptionnelle à l’occasion du lancement de son p
 artenariat avec le Paris Squash Alpine\, Internationaux de France Platiniu
 m\,\n\n \n	Front de Seine ouvre également son tournoi d’été les 2\, 
 3 et 4 juin avec une grande soirée pour célébrer ce prestigieux partena
 riat et clôturer en beauté sa saison 2022-2023.\n	 \nAu programme : \n
 	 \n\n\nL’apéritif dînatoire parrainé par Camille SERME\, moment de 
 partage et d’échange pour célébrer le squash à Front de Seine.\n\n\n
 \nLa présentation du partenariat et du tournoi d’été de Front de Sein
 e par Xabi ETCHEVERRY\, le propriétaire du club.\n\n\n\nDeux matchs d’e
 xhibition exceptionnels opposant d'abord la championne de France Junior A
 na Munos à Elise Rombat avant un duel au sommet entre les deux meilleurs 
 joueurs français\, Victor CROUIN n° 8 mondial et Grégoire MARCHE n° 16
  mondial.\n\n\n	 \n\n	Réservez votre soirée dès maintenant ! Places li
 mitées.\n\nRetrouvez également plus d'informations sur les offres de par
 tenariat et d'hospitalités.\n\n	 \n
LOCATION:44 rue Emeriau 75015 PARIS - FR
ORGANIZER:Front de Seine
END:VEVENT
END:VCALENDAR
