BEGIN:VCALENDAR
VERSION:2.0
CALSCALE:GREGORIAN
METHOD:PUBLISH
BEGIN:VEVENT
SUMMARY:SPRING Biz Night 2023
DTSTART:20230420T160000Z
DTEND:20230420T213000Z
DTSTAMP:20260425T111656Z
CATEGORIES:
DESCRIPTION:\n\n\n\nSPRING Biz Night la 1ete soirée pour inspirer innover
  et accélérer le développement des dirigeants set de leurs entreprises 
 en 2023 ! Workshops pour être serein\, prendre les bonnes décisions et p
 asser à l'action ! Organisé par  Be(e)forBiz club des dirigeants & entr
 epreneurs audacieux & bienveillants de Paris Région Ouest La Défense à
  Levallois en partenariat avec le Boss Club d'Issy les Moulineaux - Boulo
 gne.\n\n\n\n\n\n\n\n\n\n\n\nPourquoi ? Passer une bonne soirée en se re
 ssourçant d'energie et créativité positive\, co-participer\, s'inspirer
 \, s'entraider dans son business autours de retours d'expériences experti
 ses co-créativité et ateliers. Développer son réseau\, autour du cockt
 ail Networking .\n\n\n\n\n\n\n\nPour qui ? Les esprits entrepreneurs\, l
 es dirigeants\, les intrapreneurs\, les révolutions makers ou innovation 
 makers - pour les audacieux et bienveillans qui veulent grandir et faire g
 randir !\n\n\n\n\n\n.Quand ? Jeudi 20 avril  de 18:00 précise à 23:30\
 n\n.Où ? : Salons Anatole-France ( au -1 ) à Levallois - face à la so
 rtie du métro Anatole-France - 3 place du général Leclerc - Parking sou
 s terrain : Général Leclerc.\n\n.Principe ?: casual workshop & network
 ing  chacun apporte sa bonne humeur et de quoi boire et manger pour compl
 éter le\,buffet !\n\n.Agenda de la soirée\n\n\n18:00 Drink d'accueil - 
  \n\n\n\n18:15 introduction de la soirée\, attentes et intention de l'a
 udience.\n																	 \n\nStrategie de Reussite en 2023 ? Les 5 cl
 és de la réussite pour propulser son business en 2023 avec sérénité. 
 Bruno Lescure\, CEO Xmentor\, expert en stratégie de Réussite même dans
  les pires situations.\n\n\n\nComment devenir Animateur  Animatrice ? B2
 B * Particulier * ou Tv ?  N’zo Okem\, CEO Okem N'zo Prod\, expert dan
 s la production et l’animation d’événements et Créateur de concept 
 d’interview. \n\n\n\nLes 4 A de la réussite: Révéler tes compétence
 s et renforcer ton ingénierie intérieure pour atteindre le plus haut niv
 eau de ta performance. Malika Arnaud\, CEO MA coaching Consulting \n\n\n
 \n3 expériences pour transformer le stress limitant en audace sereine. Pa
 r Christel Sivré\, ice Woman\, fondatrice de Alpha inspiration. Coach et 
 instructeur wim Hof niveau 2\n\n\n\nTester la puissance de la constellatio
 n d’entreprise pour identifier des sources de problèmes et des solution
 s ! Morgane Rollando CEO de Corporate Shaman Paris\n\n\n\nFlash connect & 
 accélère : Identifiez des idées actionnables immédiatement répondant
  à vos enjeux business du moment ! Animé par Bruno Lescure\, expert en s
 tratégie de réussite\, CEO Xmentor\n\n\n\n																	23h30 débrie
 f & feedbacks\n\n																	minuit fin de la soiree \n\n\nvenir ave
 c votre masque\, respecter les distances\, montrez votre QR code ou passe 
 sanitaire \n\nInscription obigatoire - places limitées - apporter vos ca
 rtes de visites et une contribution au buffet !! \n\nPrix : 50€ non mem
 bre \n\n																Membre : 15€ Avec code pour les membres à jou
 rs de leur cotisation du club Beeforbiz - demandez votre code - (sur whats
 App)\n\n																adhésion ici : https://www.weezevent.com/adhesio
 n-b4b\n\n																 \n\n\n\n\n\nAFTERWORK DU CLUB BE(E) FOR BIZ\n\n
 Save The Date : \n\nÀ vos agendas ! Les AfterWork Be(e) for Biz sont  g
 énéralement les 3ème mardi de chaque mois. L’objectif de ces rencontr
 es est de favoriser les liens professionnels et déclencher des opportunit
 és ou challenges entre actuels et futurs membres du club dans un nouvel e
 sprit… du club des dirigeants et des esprits entrepreneurs Be(e)forBiz !
 \n\n\n\n\n\n\n\n\n\n\nBeeforBiz est une association loi 1901 créée mi 20
 13 qui réunit les dirigeants et les esprits entrepreneurs de Levallois \,
  Paris-Ouest La Defense et au delà  -  pour faire grandir les dirigeant
 s\, les projets\, les offres et les entreprises. Comment ? créer du lien\
 , développer la confiance et l'audace \; Tester\, expérimenter\, partage
 r\, inspirer\, innover et développer ses projets & entreprises ... tout d
 evient ainsi possible sur les terrains de jeux du club Beeforbiz en résea
 u\, et avec l'intelligences collective\, l'audace et la bienveillance. Gra
 ndir et faire grandir avec des workshops\, afterworks\, co-dev\, séminair
 es\, world café\, etc. de 12\, 50\, 100 à 300 dirigeants\, managers clé
 s pour écrire le futur - LES VALEURS OPEN INNOVATION - EXCELLENCE - DYNAM
 ISME - BIENVEILLANCE - RESPONSABILITE - et FUIN  \n\n+ d'infos : http://
 b4b.club    @beeforbiz \n\n\n\n\n\n\n\n\n\n\n\n	L’abu d’alcool est 
 dangereux pour la santé- utilisez le co voiturage ou taxi ou VTC ou la ma
 rche pour rentrer\; \n\n	l’abu de bienveillance\, de networking inspira
 nt et d'energie positive sont bon pour votre santé\, celle de votre entre
 prise et des autres \; \n
LOCATION:3 place du Général Leclerc 92300 Levallois - FR
ORGANIZER:Be(e) for Biz
END:VEVENT
END:VCALENDAR
