BEGIN:VCALENDAR
VERSION:2.0
CALSCALE:GREGORIAN
METHOD:PUBLISH
BEGIN:VEVENT
SUMMARY:Réunion d'information sur les nouveaux traitements de l'obésité
DTSTART:20230513T083000Z
DTEND:20230513T103000Z
DTSTAMP:20260423T060104Z
CATEGORIES:
DESCRIPTION:\n	Venez rencontrer les professionnels de santé du Centre Sp
 écialisé de l'Obésité de la CLinique de la Sauvegarde pour échanger s
 ur cette maladie et également recevoir des informations sur les nouveaux 
 traitements de l'obésité. \n
LOCATION:480 Avenue Ben Gourion 69009 Lyon - FR
ORGANIZER:CSO Lyon Sauvegarde 
END:VEVENT
END:VCALENDAR
