BEGIN:VCALENDAR
VERSION:2.0
CALSCALE:GREGORIAN
METHOD:PUBLISH
BEGIN:VEVENT
SUMMARY:Simon Lepers: "Le soulèvement des beaufs"
DTSTART:20230120T200000Z
DTSTAMP:20260419T144431Z
CATEGORIES:
DESCRIPTION:\n	Au début du millénaire\, sentant leur disparition proche\
 , des scientifiques beaufs cryogénisent un des leurs dans un congélateur
  de friterie afin de perpétuer leur race bénie. 20 ans plus tard\, suite
  à un blackout engendré par le peuple qui n’a pas écouté Elio (di Ru
 po) leur demandant de couper le wifi\, il se décongèle comme une fricand
 elle. Evoluant aujourd’hui dans un monde apocalyptique ou les brunchs à
  35 euros\, les cures détox à base de pissenlit et les « dry january »
  sont omniprésents\, il organise la résistance pour restaurer la grandeu
 r de sa civilisation. Son combat\, il va le vivre avec vous pendant une he
 ure à travers sa légende\, ses anecdotes sur sa vie devant Beverly Hills
  et Alerte à Malibu. Et il risque bien de vous rallier à sa cause car no
 us sommes toutes et tous le beauf de quelqu’un !\n
LOCATION:Rue Saint-Géry 31 1000 Bruxelles - BE
ORGANIZER:Comedy ket
END:VEVENT
END:VCALENDAR
