BEGIN:VCALENDAR
VERSION:2.0
CALSCALE:GREGORIAN
METHOD:PUBLISH
BEGIN:VEVENT
SUMMARY:Halloween party
DTSTART:20221029T170000Z
DTEND:20221029T210000Z
DTSTAMP:20260419T130753Z
CATEGORIES:
DESCRIPTION:
LOCATION:Rue Sainte-Hérem 63000 Clermont-Ferrand - FR
ORGANIZER:Sorties entre inconnus 63
END:VEVENT
END:VCALENDAR
