BEGIN:VCALENDAR
VERSION:2.0
CALSCALE:GREGORIAN
METHOD:PUBLISH
BEGIN:VEVENT
SUMMARY:Les 4 Heures Pros : Ateliers et conférences Plus-Agiles Poitiers 
 le 30 sept 2022
DTSTART:20220930T120000Z
DTEND:20220930T170000Z
DTSTAMP:20260422T025610Z
CATEGORIES:
DESCRIPTION:\nATELIERS et CONFERENCE\n\nLe 30 septembre 2022 au Htag à Po
 itiers\n\n"Repenser l'humain au coeur de l'entreprise"\n\nVivre ensemble e
 t collaborer\n\n	 \n\nLe réseau Plus-Agiles (www.plus-agiles.com) vous i
 nvite à un après-midi de « 4 Heures Pros » à Htag (24 Bd du Grand C
 erf\, 86000 Poitiers) le 30 septembre 2022.\n\n \n\nAu programme :\n\n 
 \n\n14h – 17h : Ateliers pratiques\n\n17h30 – 18h30 : Conférence\n\
 n18h30 : Cocktail\n\n	 \n\nLes sujets des ateliers :\n\n \n\nDe 14h à 
 17h\, vous aurez le choix entre différents ateliers pratiques proposés p
 ar :\n\n \n\n\nSandrine Lhermenier : « Process Communication Model® :
  forgez des relations authentiques\, constructives et positives en équipe
  »\n\nGrâce au Process Communication Model®\, développez une meilleur
 e connaissance de vous-même et des autres.\n			 \n\n\nJean-Christian Riv
 et : « Transformez votre réseau en opportunités ! »\n\n\n​Réseaux
  numériques ou réseaux professionnels ? Prenez le meilleur des deux mond
 es !\n	 \n\n\nGuy Etcheto : « 4 leviers pour booster votre offre et vot
 re chiffre d’affaires »\n\n\nPME\, trouvez des voies de développement
  en partant de ce que vous proposez aujourd’hui et de votre façon de le
  vendre.\n\nVous verrez\, identifier de nouvelles sources de revenus est b
 eaucoup plus accessible que vous ne le pensez !\n\n	 \n\nRendez-vous ensu
 ite à 17h pour la nouvelle conférence de Eric ALARD\, coach Olympique e
 t Manager d’entreprise\, auteur du livre « Devenez votre propre champ
 ion » :\n\n	 \n\nDevenez votre propre champion !\n\nBoostez la réussi
 te de vos projets professionnels en adoptant les stratégies des plus gran
 ds champions\n\n	 \n\n	 \n\nSuivi à 18h30 par un cocktail\n\n	 \n\n	 
 \n\nPour mieux connaître le Réseau Plus-Agiles : www.plus-agiles.com\n
LOCATION:24 Bd du Grand Cerf 86000 Poitiers - FR
ORGANIZER:Plus-Agiles
END:VEVENT
END:VCALENDAR
