BEGIN:VCALENDAR
VERSION:2.0
CALSCALE:GREGORIAN
METHOD:PUBLISH
BEGIN:VEVENT
SUMMARY:Tournoi caritatif Foot en Salle 5x5
DTSTART:20220623T170000Z
DTEND:20220623T203000Z
DTSTAMP:20260420T142904Z
CATEGORIES:
DESCRIPTION:\n	******ATTENTION****** Date limite d'inscription : LUNDI 20 
 JUIN à 10H\n\nCet évènement conjugue plusieurs interets:\n\n- organisat
 ion d'un tournoi de foot en 5x5\n\n- les bénéfices seront intégralement
  reversés à l'association Dominique (http://www.association-dominique.co
 m/)\n\n- découverte d'un club d'entrepreneurs basé sur Tournefeuille\, c
 lub qui organise cet évènement\n\nA VOS INSCRIPTIONS\, NOUS ESEPERONS VO
 US VOIR NOMBREUX ET MOTIVES! (Nombre limité à 20 équipes)\n\nLe référ
 ent/capitaine de l'équipe paye l'intégralité à l'inscription pour tout
 e son équipe\, à savoir 125€. \n\nIl est recommandé pour les 'non ini
 tiés' de prévoir 1 voire 2 joueurs supplémentaires car plusieurs matchs
  seront joués dans le cadre du tournoi.\n\n	Lots à gagner: 120€ bon d'
 achat cave à vins\, 1h futsal\, shooting photos.\n\n* Si une ou des perso
 nne(s) mineure(s) dans l'équipe\, une autorisation parentale est demandé
 e et sera vérifiée sur place\n
LOCATION:27 chemin de la Saudrune 31100 TOULOUSE - FR
ORGANIZER:Association Les 7 à 9 de l'entreprise
END:VEVENT
END:VCALENDAR
