BEGIN:VCALENDAR
VERSION:2.0
CALSCALE:GREGORIAN
METHOD:PUBLISH
BEGIN:VEVENT
SUMMARY:Soirée Étincelle - 18 mars 2022
DTSTART:20220318T180000Z
DTEND:20220318T200000Z
DTSTAMP:20260420T135151Z
CATEGORIES:
DESCRIPTION:\nCette soirée se place sous le signe du renouveau\, avec l'
 arrivée du Printemps\, et de l'énergie\, sous les vibrations de la P
 leine Lune ✨\n\nVous pourrez retrouver Candice @candicedolbeau_reiki\,
  Anaïs @anaispiaudsophrologue et Damien @damien_hypnose_coaching dans
  notre lieu de vie Padar Avenue pour une belle soirée "3 outils indispe
 nsables pour mieux gérer son énergie au quotidien" ☀️ \n\nNous vou
 s donnons rendez-vous :\n\n- Vendredi 18 mars 2022 - de 19h00 à 21h00\n\
 n- Chez Padar Avenue : 6 rue du Cordouan à La Rochelle\n\n \n\nLe cœu
 r de cette belle soirée :\n\n\n\nAnaïs\, Sophrologue @anaispiaudsophrol
 ogue : interviendra sur la notion de lâcher-prise\, de déconnexion e
 t de nettoyage des énergies qui ne sont plus nécessaires à travers d
 ifférents exercices de respiration.\n\nDamien\, Hypnothérapeute & Coa
 ch certifié @damien_hypnose_coaching : proposera des outils d'ancrage 
 par l'auto-hypnose afin de ré-activer notre énergie ou un état d'esp
 rit énergique.\n\nCandice\, Énergéticienne @candicedolbeau_reiki : nou
 s guidera vers une prise de conscience de notre capacité à se protéger 
 et prendre soin de notre énergie grâce à de l'information et de l'expé
 rimentation.\n\n\n \n\n✨ Le petit +\n\n\nUNE JOLIE SURPRISE EN FIN DE 
 SOIRÉE\n\nÉVÉNEMENT GRATUIT\n\nAPÉRITIFS OFFERTS\n\n\n \n\n12 places
  maximum\, dans un climat bienveillant et convivial.\n\n\n	 \n
LOCATION:6 rue du Cordouan 17000 LA ROCHELLE - FR
ORGANIZER:Padar Avenue
END:VEVENT
END:VCALENDAR
