BEGIN:VCALENDAR
VERSION:2.0
CALSCALE:GREGORIAN
METHOD:PUBLISH
BEGIN:VEVENT
SUMMARY:Soirée Afterwork AIX SUD PERFORMANCE
DTSTART:20220324T180000Z
DTEND:20220325T010000Z
DTSTAMP:20260424T170035Z
CATEGORIES:
DESCRIPTION:\n	Chers membres\, chers amis BNIstes\, chers invités\, le gr
 oupe BNI AIX SUD PERFORMANCE vous accueille pour un afterwork d'anthologie
  le Jeudi 24 Mars!\n\n	Au programme de cette soirée\, cocktail dinatoire 
 sucré/salé avec boissons incluses (cocktail de bienvenue\, vins et softs
 )\, le tout animé par notre super DJ Christophe RASA. \n\n	Venez nombreu
 x nous rejoindre à partir de 19H aux Jardins d'Ilo à Gardanne.\n
LOCATION:341 avenue des Chasséens  13120 Gardanne - FR
ORGANIZER:AUMER TRAITEUR
END:VEVENT
END:VCALENDAR
