BEGIN:VCALENDAR
VERSION:2.0
CALSCALE:GREGORIAN
METHOD:PUBLISH
BEGIN:VEVENT
SUMMARY:Séance de groupe "Contact Défunts"
DTSTART:20220513T150000Z
DTEND:20220513T170000Z
DTSTAMP:20260423T161418Z
CATEGORIES:
DESCRIPTION:\nSéance de groupe "Contact Défunts" (10 personnes)\n\n"Quan
 d un message de l’au-delà nous est adressé"\n\n	Je vous propose une s
 éance* de groupe au cours de laquelle je consacrerai une dizaine de minut
 es à chacun d’entre vous pour recevoir une communication avec un défun
 t**.\n\n	La séance se déroulera en visioconférence.\n\n	50€ / partici
 pant***\n\n	 \n\n* Les séances sont interdites aux mineurs\, aux personn
 es dont l’équilibre émotionnel serait fragile\, de même que les perso
 nnes suivies pour des dépressions sévères ou des troubles de la personn
 alité.\n\n** Il est impératif d’attendre 12 mois après le départ d
 ’un défunt avant d’établir un contact. De même qu’il est possible
  que votre défunt ne se présente pas pour différentes raisons ou qu’u
 n autre défunt se présente (cf mes CG).\n\n*** Conformément à l’arti
 cle L.221–28 alinéa 12 du code de la consommation\, les billets ne font
  pas l’objet d’un droit de rétractation. Toute commande est ferme et 
 définitive. Un billet ne peut être ni repris\, ni échangé\, ni rembour
 sé.\n
LOCATION:   - FR
ORGANIZER:Anne Tuffigo
END:VEVENT
END:VCALENDAR
