BEGIN:VCALENDAR
VERSION:2.0
CALSCALE:GREGORIAN
METHOD:PUBLISH
BEGIN:VEVENT
SUMMARY:Lire Freud avec Lacan - Mai 2026
DTSTART:20260516T090000Z
DTEND:20260516T110000Z
DTSTAMP:20260426T004416Z
CATEGORIES:
DESCRIPTION:\nSamedi 4 avril 2026 à 11h - Local de l'ACF\, 26 rue du Hâ 
 à Bordeaux.\n\n	 \n\n	Notre titre de cette année\, « Stratégie(s) av
 ec la vérité »\, est de notre temps\, celui des fake news.\n\n	Ce ti
 tre provient d’une expression de Lacan\, prononcée une seule fois dans 
 le cadre de son séminaire XVI à la page 19.\n\n	Laisserait-il entendre u
 ne sorte de partenariat entre le sujet et la vérité\, sa vérité ?….\
 n\n	 \n\n	Intervenant 1 : Gil Dominique\, « vrai <> mensonge »\n\n	In
 tervenant 2 : Lagrange Jean-Philippe\, « Réel et Vérité »\n\n	Anima
 tion : Dessalles Françoise\n
LOCATION:26 rue du Hâ 33000 BORDEAUX - FR
ORGANIZER:Association  Cause Freudienne
END:VEVENT
END:VCALENDAR
