BEGIN:VCALENDAR
VERSION:2.0
CALSCALE:GREGORIAN
METHOD:PUBLISH
BEGIN:VEVENT
SUMMARY:KOSMOPOLITEVITCH
DTSTART:20260515T180000Z
DTEND:20260515T200000Z
DTSTAMP:20260425T155922Z
CATEGORIES:
DESCRIPTION:\n\n\nKosmopolitevitch est un projet musical qui vit et évolu
 e depuis sa création en 2013 comme une cartographie sonore\, retraçant l
 es trajectoires des musiciens qui la portent. Issus de la scène jazz\, de
 s musiques traditionnelles\, ainsi que des orchestres symphoniques à trav
 ers l’Europe (de Paris à Athènes en passant par Berlin)\, ils transmet
 tent une fois sur scène la fougue et la richesse des paysages culturels d
 es Balkans. Le mélange de leurs parcours et les influences qui les nourri
 ssent donnent lieu à une expérience musicale qui leur est propre\, où l
 es sons de la clarinette\, de la trompette\, du oud\, et des percussions t
 raditionnelles transportent le public des montagnes serbes\, aux campagnes
  roumaines\, en passant par le répertoire des îles grecques et des côte
 s d’Asie Mineure.\n\n\n\n\nAu fil des années\, les musiciens de Kosmopo
 litevitch ont construit une maison commune et l'ont meublée d'un vaste h
 éritage de chants et d'airs de différentes traditions. Ce concert vous i
 nvite à la visiter\, en chantant\, en courant\, et en dansant !\n\n\n		 
 \n\n\n	 \n
LOCATION:14 avenue Parmentier 75011 Paris - FR
ORGANIZER:ECV ETOILE CINEMAS VOLTAIRE
END:VEVENT
END:VCALENDAR
