BEGIN:VCALENDAR
VERSION:2.0
CALSCALE:GREGORIAN
METHOD:PUBLISH
BEGIN:VEVENT
SUMMARY:Les relations publiques: arme secrète des PME innovantes
DTSTART:20260513T140000Z
DTEND:20260513T150000Z
DTSTAMP:20260425T122243Z
CATEGORIES:
DESCRIPTION:Comment se faire connaître et faire rayonner son entreprise l
 orsque le budget est limité ? Comment contrôler le narratif et gérer s
 a réputation ? Que faire si une crise éclate ?\nLes relations publique
 s sont l’arme secrète des PME innovantes. Avec un ROI d’une campagne 
 de presse qui peut tourner autour de 6000%\, on serait fous de ne pas pren
 dre cette voie (et cette voix !)\nVenez découvrir les relations publiques
  à travers des cas concrets\, plonger pendant une heure dans l’univers 
 stratégique de la communication\, poser vos questions et repartir avec de
 s idées applicables à votre entreprise\, lors de cet atelier sans frais 
 animé par Lamia Charlebois.\nÀ propos de la formatrice\nCet atelier sans
  frais est animé par Lamia Charlebois\, consultante en relations publique
 s\, conférencière\, auteur et journaliste avec plus de 25 ans d’expér
 ience en communication.  Après avoir travaillé dans de grandes compagni
 es et en agence\, elle lance sa propre boîte de relations publiques. Son 
 expertise inclut les conseils stratégiques\, la gestion de crise\, les re
 lations médias\, le coaching individuel ou des ateliers en groupe de form
 ation en communication. Ses clients\, de grandes sociétés\, des PME et d
 es start-ups\, se trouvent au Canada\, aux États-Unis\, en Europe et au M
 oyen-Orient. Conférencière notoire\, son passage au TEDx Montréal a re
 çu plus de 32 800+ views sur YouTube et elle a été chroniqueuse à la r
 adio de Radio-Canada au « live morning show ». Lamia parle quatre langue
 s et a vécu à Beyrouth\, Québec\, Ottawa\, Toronto et Montréal. Elle m
 entore plusieurs jeunes et est souvent présente dans les médias défend 
 des causes et promeut l'entrepreneuriat et le leadership. Elle siège sur 
 le CA des Jeunes entrepreneurs et est membre du CCU d’Outremont.
GEO:45.5052864;-73.5729614
LOCATION:630 Rue Sherbrooke Ouest H3A 1E7 Montréal - CA
ORGANIZER:PME MTL Centre-Ville
END:VEVENT
END:VCALENDAR
