BEGIN:VCALENDAR
VERSION:2.0
CALSCALE:GREGORIAN
METHOD:PUBLISH
BEGIN:VEVENT
SUMMARY:Création d’un shampoing solide
DTSTART:20260506T123000Z
DTEND:20260510T123000Z
DTSTAMP:20260426T021151Z
CATEGORIES:
DESCRIPTION:Prendre soin de ses cheveux tout en respectant sa peau et la p
 lanète\, c’est possible sans ingrédients agressifs. \nLors de cet atel
 ier\, découvrez comment créer un shampoing solide doux. \nSimple\, natur
 el et efficace\, ce soin respectueux allie douceur et écologie.\nA partir
  de 14 ans.\nINSCRIRE TOUS LES PARTICIPANTS. MINEUR OBLIGATOIREMENT ACCOMP
 AGNES D’UN ADULTE.\n \n \n/!\\ Merci de prévenir en cas de désisteme
 nt afin que votre place puisse être réattribuée.\n/!\\ A partir de 10mi
 n de retard\, votre place pourra être réattribuée.
LOCATION:Quai de Boisguilbert 76000 Rouen - FR
ORGANIZER:Pavillon des Transitions
END:VEVENT
END:VCALENDAR
