BEGIN:VCALENDAR
VERSION:2.0
CALSCALE:GREGORIAN
METHOD:PUBLISH
BEGIN:VEVENT
SUMMARY:Les aventuriers du Cycle Perdu : la soif du savoir
DTSTART:20260509T090000Z
DTEND:20260531T090000Z
DTSTAMP:20260426T004415Z
CATEGORIES:
DESCRIPTION:« En 2225\, l’eau n’est plus qu’un souvenir fragile\, u
 ne ressource rare pour laquelle on se bat et que l’on protège comme un 
 trésor. Les rivières se sont tues\, les pluies sont imprévisibles\, et 
 les survivants ignorent presque tout du monde d’avant. Pourtant\, quelqu
 e part dans les ruines du passé\, subsistent les traces d’un savoir oub
 lié : le cycle de l’eau tel qu’il fonctionnait au XXᵉ siècle\, et 
 la manière dont les humains l’utilisaient…."\nEn devenant les aventur
 iers du Cycle Perdu\, vous partez à la recherche de ces connaissances à 
 travers de nombreuse énigmes à décrypter : savoir indispensables pour c
 omprendre le passé et survivre dans un monde où chaque goutte compte. »
 \nA partir de 15 ans.\nINSCRIRE TOUS LES PARTICIPANTS. MINEUR OBLIGATOIREM
 ENT ACCOMPAGNES D’UN ADULTE.\n \n \n/!\\ Merci de prévenir en cas de 
 désistement afin que votre place puisse être réattribuée.\n/!\\ A part
 ir de 10min de retard\, votre place pourra être réattribuée.
LOCATION:Quai de Boisguilbert 76000 Rouen - FR
ORGANIZER:Pavillon des Transitions
END:VEVENT
END:VCALENDAR
