BEGIN:VCALENDAR
VERSION:2.0
CALSCALE:GREGORIAN
METHOD:PUBLISH
BEGIN:VEVENT
SUMMARY:Carte Blanche signée par Les Rencontres Internationales Paris/Ber
 lin 
DTSTART:20260529T163000Z
DTEND:20260529T200000Z
DTSTAMP:20260424T141949Z
CATEGORIES:
DESCRIPTION:\n\n__________________________________________________________
 ________________________________________\n\n[29 mai - 18h30]\n\n__________
 _________________________________________________________________________\
 n\n		 \n\nCarte Blanche signée par \n\nLes Rencontres Internationales Pa
 ris/Berlin \n\n\nsuivie d’un concert de Roxane Métayer \n\n	 \n\n	Le
  29 mai\, dans le cadre de sa sixième édition\, le CWB propose une Carte
  Blanche aux Rencontres Internationales Paris/Berlin pour une soirée de p
 rojections réunissant des films de Léonard Pongo\, Maryam Tafakory\, Myr
 the Baptist et Zachary Epcar.\n\n	La soirée se prolongera avec un concert
  de Roxane Métayer.\n\n	 \n\nProgramme :\n\n\n	■ 18h30–20h00 | Proje
 ction de films en cinéma :\n\n	Zachary Epcar : Sinking Feeling | Myrthe 
 Baptist : Caresse | Maryam Tafakory : Razeh-Del | Léonard Pongo : Tales
  From The Source \n\n	■ 20h30 | Concert en théâtre : Roxane Métayer
  \n\n	 \n
LOCATION:46 Rue Quincampoix 75004 Paris - FR
ORGANIZER:Centre Wallonie-Bruxelles I Paris
END:VEVENT
END:VCALENDAR
