BEGIN:VCALENDAR
VERSION:2.0
CALSCALE:GREGORIAN
METHOD:PUBLISH
BEGIN:VEVENT
SUMMARY:Demo Taylormade
DTSTART:20260516T080000Z
DTEND:20260516T141500Z
DTSTAMP:20260424T010137Z
CATEGORIES:
DESCRIPTION:Inscrivez vous pour une démo TAYLORMADE sur mesure le 16 mai 
 2026 de 10h à 17h ! \n\nFitting de 45min OFFERT au Golf de Pornic X Golf
  Plus\n \nUne fois la réservation effectuée\, présentez-vous directeme
 nt au practice à l'heure choisie. \nBon fitting !\n
GEO:47.1191043;-2.1173276
LOCATION:Avenue de Scalby Newby 44210 Pornic - FR
ORGANIZER:SAS LA PORNICAISE
END:VEVENT
END:VCALENDAR
