BEGIN:VCALENDAR
VERSION:2.0
CALSCALE:GREGORIAN
METHOD:PUBLISH
BEGIN:VEVENT
SUMMARY:Architecture de l’eau
DTSTART:20260730T133000Z
DTEND:20260730T153000Z
DTSTAMP:20260425T160034Z
CATEGORIES:
DESCRIPTION:Architecture de l’eauFilms de Dominique Gros\nAvec la partic
 pation de Hélène Aulagnier et Jean Lanaspeze\nParking du FournilLieu de 
 l’événement : Grand Atelier\n 
GEO:43.940732;5.5640241
LOCATION:route de banon 84750 Viens - FR
ORGANIZER:Estivales et Paysages
END:VEVENT
END:VCALENDAR
