BEGIN:VCALENDAR
VERSION:2.0
CALSCALE:GREGORIAN
METHOD:PUBLISH
BEGIN:VEVENT
SUMMARY:Pierre Kroll et Vinciane Despret | Rencontre
DTSTART:20260730T100000Z
DTEND:20260730T110000Z
DTSTAMP:20260425T154312Z
CATEGORIES:
DESCRIPTION:Dieu\, Darwin\, Tout… et n’importe quoiHISTOIRES NATURELLE
 Savec Pierre Kroll\, dessinateur de presseet Vinciane Despret\, philosophe
 \nPoint de rendez-vous : Bivouac\, point d’acceuil des Estivales. Lieu 
 de l’événement : Confirmé sur place - Bivouac ou Amphithéâtre.\nDan
 s le cadre de l'expostion présentée au domaine des planches de l'album 
 éponyme dont ils sont les auteurs
GEO:43.936637;5.561774
LOCATION:Les Davids\, Route de Banon 84750 Viens - FR
ORGANIZER:Estivales et Paysages
END:VEVENT
END:VCALENDAR
