BEGIN:VCALENDAR
VERSION:2.0
CALSCALE:GREGORIAN
METHOD:PUBLISH
BEGIN:VEVENT
SUMMARY:SOLSTICE
DTSTART:20260606T183000Z
DTSTAMP:20260424T093000Z
CATEGORIES:
DESCRIPTION:\nSOLSTICE\n\nDate : Samedi 6 juin\n\nHoraire : 20h30\n\nLieu 
 : Centre Culturel La Providence\n\n8 bis rue Saint-Augustin\, 06300 Nice\n
 \nTarifs : 15 € / 12 €\n\nDurée : 1h\n\nLangue : Français\n\nPrésen
 tation du spectacle\n\nIl y a cinq ères de cela\, avant le Paléozoïque\
 , avant même la commedia dell’arte\, tous les continents ne formaient q
 u’un seul poing.\n\nPuis\, lentement\, les doigts se sont écartés\, do
 nnant naissance à une main ouverte…\n\nC’était un temps heureux. Les
  dinosaures dansaient\, riaient.\n\nNe vous moquez pas — c’est prouvé
 .\n\nMais aujourd’hui\, quelque chose se tend. Une atmosphère de poudri
 ère\, un parfum de guerre. Le poing se referme.\n\nHeureusement… rien n
 ’est perdu.\n\nQuatre Yokaïs masqués\, venus tout droit du Japon\, sur
 gissent\, bien décidés à s’en mêler.\n\nIls s’invitent à un festi
 val d’êtres humains eux aussi masqués…\n\net élèvent la voix pour 
 dire tout haut ce que beaucoup pensent tout bas.\n\nUn spectacle visuel\, 
 poétique et engagé\, entre imaginaire mythologique et regard critique su
 r notre époque.\n\nDistribution\n\nTexte et mise en scène : Thierry Vinc
 ent\n\nAvec : Aliénor de Georges\, Claudia Musso\, Élodie Tampon-Lajarri
 ette\, Guillaume Geoffroy\n\nCréation musicale : Aliénor de Georges\, Cl
 audia Musso\n\nChorégraphie / assistanat mise en scène : Jossia Clément
 \n\nScénographie : Philippe Maurin\n\nCréation lumière : Florent Chauve
 t\, Alexandre Toscani\n\nPédagogie : Isabelle Klaric\n\nProduction\n\nCom
 pagnie BAL – Bal d’Arts Légers (France)\n\nÀ propos de la Compagnie 
 BAL\n\nDepuis 2003\, la Compagnie BAL développe un répertoire original e
 t ouvert\, avec plus de 20 créations à son actif : comédies jardinière
 s\, spectacles jeune public\, lectures musicales\, pièces d’auteurs.Ell
 e rassemble comédiens\, musiciens\, scénographes\, créateurs de masques
 \, costumes et lumières\, dans une dynamique artistique riche et collecti
 ve. Ses projets se déploient dans des contextes variés : salles de spe
 ctacle\, musées\, médiathèques\, écoles\, milieux hospitaliers et pén
 itentiaires\, théâtre de plein air et événements culturels. La compag
 nie propose également ateliers\, formations\, actions de sensibilisation 
 et résidences d’écriture.\n\nBAL\, c’est aussi un Théâtre Tout Ter
 rains (T.T.T.) : un théâtre qui s’adresse à tous\, mêlant poésie\,
  musique et humour\, pour rassembler les publics et nourrir l’expérienc
 e du spectateur.\n\nSite de la compagnie : www.compagniebal.com\n
LOCATION:8 bis rue Saint Augustin 06300 Nice - FR
ORGANIZER:La Semeuse
END:VEVENT
END:VCALENDAR
