BEGIN:VCALENDAR
VERSION:2.0
CALSCALE:GREGORIAN
METHOD:PUBLISH
BEGIN:VEVENT
SUMMARY:Découvrir l’IA responsable : enjeux\, risques et opportunités
DTSTART:20260511T123000Z
DTEND:20260511T143000Z
DTSTAMP:20260424T154854Z
CATEGORIES:
DESCRIPTION:Vous souhaitez adopter l’intelligence artificielle de façon
  stratégique\, éthique et responsable au sein de votre organisation ?\nO
 BVIA a lancé le Parcours PACT — Parcours d’Accompagnement pour une Co
 nduite Technologique responsable.\nEn collaboration avec OBVIA\, PME MTL v
 ous invite à HEC Montréal (centre-ville) à participer à la première 
 étape de ce parcours : un atelier de sensibilisation. Cet atelier vise à
  informer les organisations sur les enjeux\, les bénéfices et les risque
 s liés à l’intelligence artificielle dans leur secteur.\nAlors que l
 ’IA devient une composante incontournable du paysage technologique\, son
  intégration dans une organisation de façon utile\, crédible et respons
 able représente un véritable défi. Trop de projets peinent encore à d
 épasser le stade de l’expérimentation ou n’atteignent pas les résul
 tats attendus\, faute de données adéquates\, de gouvernance claire ou d
 ’une compréhension suffisante des risques.\nDévelopper une IA de confi
 ance\, appuyée sur des principes éthiques\, une gouvernance solide et un
 e démarche adaptée à la réalité de l’organisation\, peut faire tout
 e la différence.\nAu cours de cette rencontre\, vous pourrez :\n\nmieux c
 omprendre les conditions de réussite d’une intégration responsable de 
 l’IA \;\nidentifier les fondations nécessaires pour intégrer l’IA da
 ns vos processus \;\nexplorer les principes éthiques à considérer \;\n
 échanger sur des cas concrets en fonction de vos besoins et de vos réali
 tés d’affaires.\n\nÀ qui s’adresse cette rencontre ?\nCette rencontr
 e s’adresse :\n\naux entreprises technologiques \;\naux organisations qu
 i souhaitent intégrer des agents conversationnels ou des outils d’autom
 atisation \;\naux gestionnaires\, responsables de projet\, équipes d’in
 novation et responsables TI qui souhaitent mieux encadrer l’usage de l
 ’IA dans leur organisation.\n\nLe Parcours PACT (Parcours d’Accompagn
 ement pour une Conduite Technologique responsable) est un projet de reche
 rche financé dans le cadre du programme Chantiers d'interventions théma
 tiques de l'Obvia.\nDéroulement\n\n8:30 Ouverture de la salle\n8:55 Mot d
 e bienvenue\n9:00 Début de la présentation\n10:00 Période de questions 
 et échanges\n10:30 Fin\n
GEO:45.5024229;-73.56427479999999
LOCATION:501 Rue De la Gauchetière Ouest H2Z 1Z5 Montréal - CA
ORGANIZER:PME MTL Centre-Ville
END:VEVENT
END:VCALENDAR
