BEGIN:VCALENDAR
VERSION:2.0
CALSCALE:GREGORIAN
METHOD:PUBLISH
BEGIN:VEVENT
SUMMARY:LES ECRANS INCLUSIFS 2026
DTSTART:20260521T073000Z
DTEND:20260521T120000Z
DTSTAMP:20260424T143927Z
CATEGORIES:
DESCRIPTION:\nLa deuxième édition des Ecrans Inclusifs se tiendra le jeu
 di 21 mai\, de 10h à 13h à Cannes\, à l'occasion du Festival Internatio
 nal du Film de Cannes.\n\n	Fort des enseignements et des résultats de la 
 première édition\, Les Écrans Inclusifs 2026 propose un programme plus 
 étoffé. L’événement se déroulera à nouveau dans le cadre du Villag
 e International du film du Festival de Cannes le 21 Mai 2026. Les Écrans 
 inclusifs\, toujours au plus proche des questionnements des professionnels
  du cinéma et de l’audiovisuel\, sera l’occasion de mettre un accent 
 particulier sur la formation\, le rôle des écoles de cinéma\, ainsi que
  sur la responsabilité des producteurs dans le développement de pratique
 s inclusives au sein des métiers du cinéma et de l’audiovisuel. \n\n	
 9h45 : Accueil des participants\n	10h : Discours d'ouverture\n	10h10 à
  11h - Table ronde 1 : « Diversité à l'écran et dans les métiers : de
  l'ambition à la réussite»\n	11h10 à 12h00 - Table ronde 2 : « Faire 
 place aux nouveaux talents : révéler\, former\, accompagner »\n	12h10 
 à 13h00 - Table ronde 3 : « Le rôle central des producteurs »\n	13h 
 : Discours de clôture\, suivi d'un cocktail\n\n	Cet événement est orga
 nisé par le SPCH en partenariat avec l'Agence Cristal/Théâtre de Crista
 l\, avec la participation d'AUDIENS et de la Mission Handicap du Spectacle
  vivant et enregistré\n
LOCATION: Esplanade Pantiero 06400 Cannes  - FR
ORGANIZER:CST
END:VEVENT
END:VCALENDAR
