BEGIN:VCALENDAR
VERSION:2.0
CALSCALE:GREGORIAN
METHOD:PUBLISH
BEGIN:VEVENT
SUMMARY:Petit Déjeuner de Conjoncture juin 2026
DTSTART:20260605T063000Z
DTSTAMP:20260424T014225Z
CATEGORIES:
DESCRIPTION:Infos pratiques : \nVendredi 5 juin 2026 à partir de 8H30\n
 à l'antenne de Dax\, 128 av. Georges Clemenceau\, Dax
LOCATION:128 av. Georges Clemenceau 40100 Dax - FR
ORGANIZER:CCI des Landes
END:VEVENT
END:VCALENDAR
