BEGIN:VCALENDAR
VERSION:2.0
CALSCALE:GREGORIAN
METHOD:PUBLISH
BEGIN:VEVENT
SUMMARY:Calle Mambo + La Doce
DTSTART:20261015T180000Z
DTEND:20261015T223000Z
DTSTAMP:20260423T193053Z
CATEGORIES:
DESCRIPTION:\n\nJE 15.10.2026\nCalle Mambo + La Doce  \n\n\nCumbia | Sal
 le de spectacle  \nPortes 20h00\, début 20h30 \nPrélocation 23.-\, su
 r place 25.-   \nFor fans of: Kumbia Boruka\, La Yegros\, Loretta Gun 
  \n		 \n\n		 \n\nEst-ce qu’on ne referait pas une soirée Cumbia sur 
 scène\, dans la rue\, sur la terrasse\, dans les escaliers\, le hall d’
 entrée ? Partout en fait ? Et quelle fête ! Une dizaine d’instruments 
 sur nos planches pour vous faire bouger de la tête au pied pour un jeudi 
 soir qui s’annonce rythmé de güira avec les superbes Calle Mambo et la
  fameuse La Doce de la Basse-Ville !   \n \nCalle Mambo \nForts de 13 
 ans de carrière\, de trois albums à leur actif et de tournées internati
 onales ayant conquis des scènes prestigieuses les Chiliens Calle Mambo s
 ’imposent aujourd’hui comme un des groupes phare dans le renouveau des
  musiques latines. Leur force : des compositions riches et audacieuses\, f
 usionnant une dizaine d’instruments traditionnels d’Amérique Latine (
 charango\, tiple\, quena\, zampoña\, ronrroco\, toyos\, cuatro…) avec d
 es sonorités électroniques\, urbaines et des rythmes populaires (huayno\
 , timba\, caporal\, cumbia…) Une alchimie puissante entre modernité et 
 tradition! Sur scène\, une véritable tornade : un univers musical singul
 ier et une immersion captivante dans les musiques d’Amérique latine! \
 n\nhttps://www.instagram.com/callemambo_oficial  \nhttps://www.facebook.
 com/callemamboofficial \nhttps://www.youtube.com/watch?v=KmaL9phKEOQ \n
  \nCumbien de Cumbia ? Toujours plus !  \nLa Doce\, c’est le nouveau 
 projet de cumbia né à Fribourg. Une formation fraîche\, issue des fameu
 ses jams du 12 Barres\, un petit bar de en Basse-Ville. Des sourires\, de 
 la chaleur humaine\, du groove et de la danse jusqu’au bout de la nuit. 
 Groupe résolument multiculturel\, La Doce réunit jusqu’à 14 musicienn
 es et musiciens sur scène venus de la Colombie\, de la Suisse\, du Chili\
 , Bolivie\, d’Australie\, et du Pérou. \n\nhttps://www.instagram.com/l
 a_doce_cumbia/  \n\n\n✦✦✦\n\n\nDO 15.10.2026 \nCalle Mambo + La D
 oce  \nCumbia | Konzertsaal \nTüröffnung 20h00\, Beginn 20h30 \nVorv
 erkauf 23.-\, Abendkasse 25.-   \nFor fans of: Kumbia Boruka\, La Yegro
 s\, Loretta Gun \n \nWie wäre es mit einer geballten Ladung Cumbia ? Au
 f der Bühne\, auf der Strasse\, auf der Terrasse\, auf der Treppe\, im Fo
 yer? Warum nicht gleich überall? Und was für eine Sause das wird ! Etwa 
 zehn Instrumente auf unserer Bühne\, die euch von Kopf bis Fuss zum Tanze
 n bringen – für einen Donnerstagabend\, der im Rhythmus der Güira boug
 iert\, dank den grossartigen Calle Mambo und der berühmten La Doce aus de
 r Unterstadt !  \n \nCalle Mambo  \nMit einer 13-jährigen Karriere\,
  drei Alben und internationalen Tourneen\, bei denen sie auf renommierten 
 Bühnen überzeugt haben\, haben sich die Chilen:innen von Calle Mambo heu
 te als eine der führenden Bands der neuen Welle lateinamerikanischer Musi
 k etabliert. Ihre Stärke: reichhaltige und gewagte Kompositionen\, die ei
 n Dutzend traditioneller lateinamerikanischer Instrumente (Charango\, Tipl
 e\, Quena\, Zampoña\, Ronrroco\, Toyos\, Cuatro…) mit elektronischen\, 
 urbanen Klängen und populären Rhythmen (Huayno\, Timba\, Caporal\, Cumbi
 a…) verschmelzen. Eine kraftvolle Alchemie zwischen Moderne und Traditio
 n! Auf der Bühne ein wahrer Wirbelwind: ein einzigartiges musikalisches U
 niversum und ein fesselndes Eintauchen in die Musik Lateinamerikas! \n\nh
 ttps://www.instagram.com/callemambo_oficial  \nhttps://www.facebook.com/
 callemamboofficial \nhttps://www.youtube.com/watch?v=KmaL9phKEOQ \n \nC
 umbien de Cumbia ? Immer mehr ! \nLa Doce ist das neue Cumbia-Projekt aus
  Freiburg. Eine frische Formation\, die aus den berühmten Jamsessions im 
 «12 Barres» hervorgegangen ist\, einer kleinen Bar in der Unterstadt. St
 rahlende Gesichter\, Herzlichkeit\, Groove und Tanz bis tief in die Nacht 
 hinein. Als entschieden multikulturelle Gruppe vereint La Doce bis zu 14 M
 usizierende auf der Bühne\, die aus Kolumbien\, der Schweiz\, Chile\, Bol
 ivien\, Australien und Peru stammen.  \n\nhttps://www.instagram.com/la_d
 oce_cumbia/   \n\n		 \n\n\n	 \n
LOCATION:Esplanade de l'Ancienne Gare 3 1700 Fribourg - CH
ORGANIZER:ESPACE CULTUREL LE NOUVEAU MONDE
END:VEVENT
END:VCALENDAR
