BEGIN:VCALENDAR
VERSION:2.0
CALSCALE:GREGORIAN
METHOD:PUBLISH
BEGIN:VEVENT
SUMMARY:Atelier Recycl'instrus
DTSTART:20260806T080000Z
DTEND:20260806T100000Z
DTSTAMP:20260424T094924Z
CATEGORIES:
DESCRIPTION:\n\n\nFabrication d'instruments de musique à partir de déch
 ets & restitution musicale sous forme de "batucada recyclée" ^^\n\n
 \n\n			 \n\nComment donner une 2ème vie à nos déchets en musique ? Q
 uoi de plus valorisant que de fabriquer "du beau avec "rien"...et quoi 
 de plus beau que de faire musique ensemble ?\n\n\n\n					 \n\nPublic :
  Familles avec enfants à partir de 3 ans (pas besoin d'inscrire les pare
 nts s'ils accompagnent juste) / Enfants seuls à partir de 5 ans.\n\n\n\n
 \n\n\nCes ateliers de 2h sont animés par les 2 artistes-intervenants\,
  pour un groupe max de 30 personnes.\n\n\n\n\n\n\n	 \n
LOCATION:26 place du Baraty 74110 Morzine - FR
ORGANIZER:Office de Tourisme 
END:VEVENT
END:VCALENDAR
