BEGIN:VCALENDAR
VERSION:2.0
CALSCALE:GREGORIAN
METHOD:PUBLISH
BEGIN:VEVENT
SUMMARY:Études lacaniennes en institution\, surmoi et sublimation
DTSTART:20260530T083000Z
DTEND:20260530T100000Z
DTSTAMP:20260426T004415Z
CATEGORIES:
DESCRIPTION:\n	Présentation par Gaëlle Pléau\, psychologue\n\n	Le Satyr
 icon de Fellini est un film sur "l’enfer du désir" où l’imaginaire e
 t le symbolique impuissants déchaînent le réel\, où la jouissance sans
  limite dénude le non rapport sexuel.\n\n	Dans une intervention de 1975 p
 ubliée dans la revue la Cause du désir N° 102\, Lacan développe ce\n\n
 	thème de l’enfer du désir en se référant à l’exergue du livre de
  Freud sur l'interprétation des rêves et à Je te remercieVirgile: « Si
  je ne puis fléchir les dieux d’en haut\, j’ébranlerai l’Achéron 
 » (L’Enéide\, VII-32).\n\n	Le Satyricon de Fellini peut également év
 oquer le dernier vers de l’Enfer de Dante : « Et de là sortant\, nous 
 revîmes les étoiles. » La question de l’enfer et de la sortie vers la
  lumière se présenterait comme solution sublimatoire.\n
LOCATION:   - FR
ORGANIZER:Association  Cause Freudienne
END:VEVENT
END:VCALENDAR
