BEGIN:VCALENDAR
VERSION:2.0
CALSCALE:GREGORIAN
METHOD:PUBLISH
BEGIN:VEVENT
SUMMARY:Open finance & facturation électronique : la convergence des data
 s et des acteurs
DTSTART:20260507T063000Z
DTEND:20260507T100000Z
DTSTAMP:20260424T063257Z
CATEGORIES:
DESCRIPTION:\nPlusieurs fois repoussée l'entrée en vigueur de la factura
 tion électronique en septembre 2026\, les acteurs et solutions ont émerg
 é mais les directions financières (grands groupes à TPE) sont parfois t
 oujours en réflexion sur les enjeux d'intégration et la valeur ajoutée 
 pour leur métier (choix de la PDP\, intégration ERP\, tests et paramétr
 age de flux e-invoicing et e-reporting\, sécurisation de la qualité des 
 données).\n\n	 \n\nPendant ce temps côté Fintech et néobanques pouss
 és par l'open finance et notamment par des acteurs français comme la lic
 orne Pennylane\, nous observons une grosse dynamique d'interopérabilité 
 des solutions\, partenariats et fusions prolifères à l'image d'une des p
 lus importantes opérations sur fin 2025 CEGID éditeur leader de logiciel
 s comptables avec la main sur la néobanque Shine pour 1Md d'euros signe f
 ort du rapprochement entre les deux acteurs pour couvrir le marché.\n\n	
  \n\nLors de cette matinale chez Finance Innovation nous réunirons quelq
 ues acteurs clés du secteur et experts pour une 1ère table ronde sur laq
 uelle nous explorons le marché actuel en France et la convergence des act
 eurs autour de la datas et une seconde table ronde plus axée autour des 
 évolutions technologiques à venir sur comment l'IA\, les MCP s'invitent 
 dans les coulisses pour agréger les données financières et préparer le
 s solutions agents de demain.\n\n	 \n\nProgramme : \n\n\n\n8h30 - Accuei
 l\n\n		 \n\n9h00 - Table ronde 1 :  Open Finance & Facturation électron
 ique : les acteurs convergents \n\n\nMaxime Digue - co-fondateur et Direc
 teur général\, Tiime\n\nGabriel Thierry\, PDG de Karmen \n\nNicolas Rib
 eaut\, CRO\, Powens\n\nCharles Foucque\, Directeur général\, Seqino \n\
 n\n10h00 - Table ronde 2 : IA et solutions inter-connectées de demain\n\n
 \nGauthier Henroz\, PDG\, Chift\n\nFerdinand Brunet\, Banque de mémos DAF
 \n\nAurianne Martin\, CPO - MyUnisoft\n\nRachel Horvelin\, conseillère\, 
 Finkare\n\n\n11h00 - 11h30 - Réseautage\n\nStartFragmentEndFragment
LOCATION:16 Place de la Bourse 75002 PARIS - FR
ORGANIZER:Finance Innovation
END:VEVENT
END:VCALENDAR
