BEGIN:VCALENDAR
VERSION:2.0
CALSCALE:GREGORIAN
METHOD:PUBLISH
BEGIN:VEVENT
SUMMARY:Formation - Entretien vélo 101
DTSTART:20260513T220000Z
DTEND:20260514T020000Z
DTSTAMP:20260423T001608Z
CATEGORIES:
DESCRIPTION:\n\nEntretien de vélo 101\n\n		 \n\nVenez préparer votre v
 élo pour la nouvelle saison estivale! Activité gratuite donc tu es le h
 éros. \n\n		 \n\nNotre formateur Jules va parler un peu de la théorie 
 et puis on va passer à l’action autour de vos vélos. \n\n		 \n\nQuoi
  apporter?\n\n		 \n\n-Ton sourire\n\n-Ton vélo\n		 \n\nC’est importan
 t d’apporter un vélo fonctionnel\, mais qui n’est pas encore prêt po
 ur la saison. Nous n’allons pas passer à travers les réparations majeu
 res à faire! En d’autres mots\, si ton vélo a une roue désalignée\, 
 une chaîne sectionnée et un cadre tordu\, nous n’aurons pas le temps d
 e passer à travers les réparations nécessaires. !\n\n		 \n\nC’est gr
 atuit !!\n\n		 \n\nMerci à la Bourse Zéro Émission\, de la Fondation F
 amiliale Trottier et du Jour de la Terre Canada de rendre possible l’act
 ivité.\n\n		 \n\n		 \n\n		 \n\nPlan de cours\n\n		 \n\n1. Règles de 
 bases\n\n2. Cycle de nettoyage\n\n3. La gestion des freins\n\n4. Changer u
 n pneu et une chambre à air\n\n5. Ajuster les vitesses\n\n		 \n\nTu as m
 anqué ta place pour une formation qui t'intéressait? C'est ici que tu pe
 ux nous donner tes informations pour qu'on te contacte en cas de désistem
 ent : https://forms.gle/VHpWu2KC8qD831Sa8\n\n		 \n\n\n	 \n
LOCATION:112\, 7e rue J9X 1Z9 Rouyn-Noranda - CA
ORGANIZER:Petit Théâtre du Vieux Noranda
END:VEVENT
END:VCALENDAR
