BEGIN:VCALENDAR
VERSION:2.0
CALSCALE:GREGORIAN
METHOD:PUBLISH
BEGIN:VEVENT
SUMMARY:Comment gagner plus ?
DTSTART:20260512T170000Z
DTEND:20260512T210000Z
DTSTAMP:20260423T233446Z
CATEGORIES:
DESCRIPTION:
LOCATION:12 Route de Maizières\, 57280 Hauconcourt\, France 57280 Hauconc
 ourt - FR
ORGANIZER:DCF METZ
END:VEVENT
END:VCALENDAR
