BEGIN:VCALENDAR
VERSION:2.0
CALSCALE:GREGORIAN
METHOD:PUBLISH
BEGIN:VEVENT
SUMMARY:Soirées Portes Ouvertes 2026
DTSTART:20260520T150000Z
DTEND:20260605T150000Z
DTSTAMP:20260424T111614Z
CATEGORIES:
DESCRIPTION:\n\nDécouvrez l’Isep lors de soirées portes ouvertes exclu
 sives !\n\n\n\n\n\nSoirées Portes Ouvertes de l’Isep mercredi 20 mai\, 
 mercredi 3\, jeudi 4 et vendredi 5 juin 2026 de 17h à 20h !\n\n				Nos é
 tudiants\, équipes pédagogiques et associations seront ravis de vous acc
 ueillir pour vous présenter l’école et répondre à toutes vos questio
 ns.\n\nAu programme :\n\n\n\nTables Rondes : Nos enseignants animeront des
  tables rondes sur les formations d’ingénieur\, les classes préparatoi
 res\, et les Bachelors de l’Isep\n\n\n\nRencontres et échanges : Discut
 ez avec les responsables des classes préparatoires intégrées\, du cycle
  Ingénieur\, et des Bachelors pour mieux comprendre notre offre pédagogi
 que.\n\n\n\nAteliers interactifs : Participez aux activités organisées p
 ar nos étudiants et découvrez l’esprit d’innovation qui anime l’Is
 ep.\n\n\n\n				 \n\nDes surprises vous attendent tout au long de ces soir
 ées !\n\n				 \n\nAvec l’Isep\, changeons la donne pour un numérique 
 en mode Humanware.\n\nNous vous attendons nombreux pour explorer un futur 
 où innovation rime avec responsabilité.\n\nFaisons grandir le numérique
  au service de l’humain.\n\n				 \n\n\n\n\n	 \n
LOCATION:10 rue de Vanves 92130 Issy-les-Moulineaux - FR
ORGANIZER:ISEP
END:VEVENT
END:VCALENDAR
