BEGIN:VCALENDAR
VERSION:2.0
CALSCALE:GREGORIAN
METHOD:PUBLISH
BEGIN:VEVENT
SUMMARY:Atelier Percuchouette
DTSTART:20260731T080000Z
DTEND:20260731T140000Z
DTSTAMP:20260423T105651Z
CATEGORIES:
DESCRIPTION:\n	Un moment festif où petits\, musiciens et public jouent le
 s rythmes ensemble !\n\n	Rdv dans le parc des Dérêches\, au niveau de la
  scierie la Battante. \n
LOCATION:502 Route du Palais des Sports 74110 Morzine - FR
ORGANIZER:Office de Tourisme 
END:VEVENT
END:VCALENDAR
