BEGIN:VCALENDAR
VERSION:2.0
CALSCALE:GREGORIAN
METHOD:PUBLISH
BEGIN:VEVENT
SUMMARY:Aqua serenity thème Yoga
DTSTART:20260519T170000Z
DTSTAMP:20260426T010355Z
CATEGORIES:
DESCRIPTION:Mercredi 19 Mai — Aqua Serenity\n19h-19h45 : Cours de Yoga a
 u Fitness \n19h45 - 20h45 : Moment détente en balnéo (prévoir maillot 
 de bain et serviette)\n \nSéance à 20€\nPlaces limitées
GEO:44.8482616;-0.6518630999999999
LOCATION:60 Avenue du Truc 33700 Mérignac - FR
ORGANIZER:UCPA MERIGNAC
END:VEVENT
END:VCALENDAR
