BEGIN:VCALENDAR
VERSION:2.0
CALSCALE:GREGORIAN
METHOD:PUBLISH
BEGIN:VEVENT
SUMMARY:Atelier "Soins du montagnard" : Onguent « retour de balade » 
DTSTART:20260728T120000Z
DTEND:20260728T133000Z
DTSTAMP:20260423T105713Z
CATEGORIES:
DESCRIPTION:\n	 \n\n	Rdv dans le parc des Dérêches\, au niveau de la sc
 ierie la Battante. \n
LOCATION:502 Route du Palais des Sports 74110 Morzine - FR
ORGANIZER:Office de Tourisme 
END:VEVENT
END:VCALENDAR
