BEGIN:VCALENDAR
VERSION:2.0
CALSCALE:GREGORIAN
METHOD:PUBLISH
BEGIN:VEVENT
SUMMARY:P'tit Dèj JP SECURITE
DTSTART:20260522T063000Z
DTEND:20260522T083000Z
DTSTAMP:20260423T173321Z
CATEGORIES:
DESCRIPTION:\n\n\n			 \n\n\n\n	 \n
LOCATION:11 ZA la Duquerie 37 CHANCEAUX SUR CHOISILLE - FR
ORGANIZER:AFTERBAT
END:VEVENT
END:VCALENDAR
