BEGIN:VCALENDAR
VERSION:2.0
CALSCALE:GREGORIAN
METHOD:PUBLISH
BEGIN:VEVENT
SUMMARY:Caravane - Tournée d'adieu
DTSTART:20261003T000000Z
DTEND:20261003T023000Z
DTSTAMP:20260425T033042Z
CATEGORIES:
DESCRIPTION:\n\nCaravane\, c'est 13 ans de rock\, de sueur\, de décibels 
 pis de gorges cassées entre ici pis l'autre bout du monde. Quatre albums\
 , plus de 500 shows sur trois continents\, des scènes de festival comme d
 es sous-sols de bar un lundi soir. \n\n		 \n\nLe genre de band qui a touj
 ours joué comme si c'était le dernier show\, peu importe s'il y avait 10
  ou 10 000 personnes devant.\n\n		 \n\n\n	 \n
LOCATION:112\, 7e rue J9X 1Z9 Rouyn-Noranda - CA
ORGANIZER:Petit Théâtre du Vieux Noranda
END:VEVENT
END:VCALENDAR
