BEGIN:VCALENDAR
VERSION:2.0
CALSCALE:GREGORIAN
METHOD:PUBLISH
BEGIN:VEVENT
SUMMARY:Balade Apéro sauvage
DTSTART:20260728T080000Z
DTEND:20260728T100000Z
DTSTAMP:20260423T105650Z
CATEGORIES:
DESCRIPTION:\n	Balade\, découverte et cueillette des herbettes qui se dé
 gustent puis préparation et dégustation d'amuses-bouches\, arrosé de bo
 issons à base de plantes sauvages.\n\n	Rdv dans le parc des Dérêches\, 
 au niveau de la scierie la Battante. \n
LOCATION:502 Route du Palais des Sports 74110 Morzine - FR
ORGANIZER:Office de Tourisme 
END:VEVENT
END:VCALENDAR
