BEGIN:VCALENDAR
VERSION:2.0
CALSCALE:GREGORIAN
METHOD:PUBLISH
BEGIN:VEVENT
SUMMARY:Champs Libre - MAAAR
DTSTART:20260507T183000Z
DTSTAMP:20260423T142508Z
CATEGORIES:
DESCRIPTION:\n	MAAAR\, trois voyelles pour trois voix\, Elsa\, Charlotte\,
  Rebecca\, l’histoire d’une rencontre fluide et explosive sur les chem
 ins de la musique.\n\n	Un trio consititué d’Elsa Corre\, chanteuse bret
 onne portée très tôt vers les musiques du monde et dont la voix claire 
 et directe a trouvé\, dans le chant galicien\, lors d’un voyage\, une r
 ésonance à son image \; de Charlotte Espieussas\, accordéoniste et chan
 teuse\, comme ses grands-parents qui jouaient ou valsaient dans les bals d
 u Quercy\, voyageuse-amoureuse des musiques à danser et créolisées  \;
  de Rebecca Roger Cruz\, musicienne et chanteuse vénézuelienne dont le t
 empérament de feu\, l’imparable sens du rythme et la voix caméléon ne
  craignent aucun registre\, du traditionnel pur aux musiques savantes jusq
 u’au chant lyrique.\n\n	 \n\n	 \n\n	Un trio\, une triade plutôt\, aty
 pique\, frontale\, percussive. Détournant en effet les canons du trio fé
 minin\, les attendus d’une formation polyphonique\, les timbres et perso
 nnalités très marquées des trois chanteuses s’ajustent sur le fil pou
 r tisser en plusieurs langues\, sur plusieurs rythmes\, une étrange mati
 ère sonore.  Quand ce ne sont pas les voix\, ce sont les pieds et les ma
 ins qui martèlent\, pour nous ancrer en terre et cheviller l’âme au co
 rps\, une bonne fois pour toutes.\n\n	Une matière virtuose mêlant les te
 xtures\, tour à tour rugueuses\, douces\, délicates\, voluptueuses\, sur
  des arrangements de nappes\, de bourdons\, d’unissons\, d’ostinatos q
 ui confinent parfois à la transe.\n\n	Une matière\, un répertoire nourr
 i des terroirs et parcours de chacune\, des liens qu’elles y nouèrent\,
  des dons qu’elles y reçurent — de femmes le plus souvent\, car nombr
 e de chants profanes se transmettent de mère en fille — manières de ch
 ant et pratiques instrumentales\, expressions d’un courage du quotidien\
 , invocations aux puissances élémentaires\, à la nature\, appels à la 
 danse et à la fête.\n\n	Car le rythme est ici partout\, porté par l’a
 ccordéon et tout un arsenal de percussions surgies d’ailleurs : bombo\,
  tun tun\, kayamb\, pandeireta\, bendir\, quitiplas\, maracas\, guasa\, co
 quillages\, caixa\, quijadas… quand ce ne sont pas les pieds et les main
 s qui martèlent\, pour nous ancrer en terre et cheviller l’âme au corp
 s\, une bonne fois pour toutes.\n\n	 \n\n	 \n\n	Distribution :\n\n	Rebec
 ca Roger Cruz : voix\, percussions\n\n	Elsa Corre : voix\, percussions\n\n
 	Charlotte Espieussas : voix\, accordéon\, percussions\n\n	 \n\n	_______
 __________\n\n	 \n\n	 \n\n\n		Champs Libre est un cycle de concerts imag
 iné en complicité avec Souffle collectif au Consulat Voltaire. Chaque re
 ndez-vous est l’occasion d’inviter un·e artiste ou un ensemble à pro
 poser une forme singulière ou étendue autour de leur projet. Depuis 2020
 \, Souffle collectif y développe également le cycle Souffle(s)\, dédié
  aux créations collectives et aux rencontres musicales improvisées.\n\n	
 	> https://www.instagram.com/soufflecollectif\n\n		 \n\n		_______________
 ___\n\n		 \n\n		 \n\n		Ouverture des portes à 19h30 \n\n\n	 \n
LOCATION:14 AVENUE PARMENTIER 75011 PARIS - FR
ORGANIZER:ECV ETOILE CINEMAS VOLTAIRE
END:VEVENT
END:VCALENDAR
