BEGIN:VCALENDAR
VERSION:2.0
CALSCALE:GREGORIAN
METHOD:PUBLISH
BEGIN:VEVENT
SUMMARY:Balade familiale : à la rencontre des plantes sauvages
DTSTART:20260729T080000Z
DTEND:20260729T103000Z
DTSTAMP:20260423T105713Z
CATEGORIES:
DESCRIPTION:\n	Balade découverte des plantes sauvages d'été du parc des
  Dérêches et de leurs vertus\, suivie de la fabrication d'un apéro sauv
 age aux plantes (spécialité fromagère aux herbes sauvages\, galettes cu
 ites sur place et boissons aux plantes locales)\n\n	3 euros. Pour tous les
  âges. \n\n	RDV dans le parc des Dérèches\, au niveau de la scierie la
  Battante\n
LOCATION:Parc des Dérèches 74110 Morzine - FR
ORGANIZER:Office de Tourisme 
END:VEVENT
END:VCALENDAR
