BEGIN:VCALENDAR
VERSION:2.0
CALSCALE:GREGORIAN
METHOD:PUBLISH
BEGIN:VEVENT
SUMMARY:Les  3 x 30
DTSTART:20261211T193000Z
DTEND:20261211T210000Z
DTSTAMP:20260422T153124Z
CATEGORIES:
DESCRIPTION:\nTROIS HUMORISTES. TRENTE MINUTES CHACUN. UNE EXPLOSION DE RI
 RES EN 1H30.\n\n	Découvrez un concept inédit qui met en lumière la nouv
 elle scène humoristique.\n\n	Avec les 3×30\, trois artistes montent sur 
 scène pour 30 minutes de pur spectacle chacun\, vous faisant plonger dans
  trois univers\, trois styles\, trois énergies uniques.\n\n	Trois talent 
 avec un 30 minutes affûté\, percutant\, irrésistible. Des artistes tri
 és sur le volet\, sélectionnés pour leur singularité et leur capacité
  à tenir une salle dans le creux de leur main.\n\nAu programme :\n\n\nLor
 d Betterave : Ex-prof reconverti en l'une des plumes les plus affûtées 
 de la scène romande. Chroniqueur sur Couleur 3\, il décortique la socié
 té avec une intelligence redoutable et un sens de l'absurde qui déraille
  magnifiquement. Incisif\, inclassable\, il pense là où les autres se co
 ntentent de rigoler.\n\n\n	 \n\n\nMehdi Bousaidan : Grande voix de l'hu
 mour québécois. Cash\, brut\, profondément humain. Il transforme les co
 ups durs de la vie en matière explosive. On rit\, on se reconnaît\, on r
 edemande. Une pépite venue de Montréal\, ne passez pas à côté.\n\n\n	
  \n\n\nCharles Nouveau : Humoriste et chroniqueur suisse au regard acér
 é. Il manie l'autodérision et le stand-up piquant avec une précision re
 doutable. Il observe\, il tranche\, il fait mouche. Et à chaque minute su
 r scène\, il monte encore d'un cran.\n\n
LOCATION:Espace Saint-Marc - Route de Mauvoisin 45 1934 Le Châble - CH
ORGANIZER:Espace Saint-Marc
END:VEVENT
END:VCALENDAR
