BEGIN:VCALENDAR
VERSION:2.0
CALSCALE:GREGORIAN
METHOD:PUBLISH
BEGIN:VEVENT
SUMMARY:Webinaire Fonds Vert
DTSTART:20260507T120000Z
DTEND:20260507T130000Z
DTSTAMP:20260425T231308Z
CATEGORIES:
DESCRIPTION:\nOrganisé par le Pôle Mer Méditerranée en collaboration a
 vec la DIRM Méditerranée\, le Webinaire Fonds Vert - Des opportunités p
 our vos projets est un rendez-vous clef pour aligner vos initiatives sur 
 les priorités de la façade méditerranéenne.\n\n Cet événement vous 
 permettra de décrypter les opportunités de financement offertes dans le 
 cadre du Document stratégique de façade Méditerranée (DSF)\, d’ident
 ifier les synergies entre vos projets et les priorités territoriales\, et
  de mieux comprendre les critères de sélection ainsi que les thématique
 s clés soutenues. Une occasion privilégiée pour optimiser vos démarche
 s\, renforcer la pertinence de vos actions et maximiser vos chances de fin
 ancement.\n\n	Pré-programme :\n\n	 \n\n\n		Mot de bienvenue \n\n		Descr
 iption des deux mesures \n\n		Présentation des sujets prioritaires et d'
 intérêt pour le DSF\n\n		Présentation de l’accompagnement du Pôle po
 ur les projets innovants\n\n		Questions – réponses \n\n
LOCATION:   - FR
ORGANIZER:POLE MER MEDITERRANEE
END:VEVENT
END:VCALENDAR
