BEGIN:VCALENDAR
VERSION:2.0
CALSCALE:GREGORIAN
METHOD:PUBLISH
BEGIN:VEVENT
SUMMARY:Sète All-Stars 2026
DTSTART:20260912T180000Z
DTSTAMP:20260425T202645Z
CATEGORIES:
DESCRIPTION:Sète All Stars\, le 12 septembre 2026 au Théâtre de la Mer 
 : Bonbon Vodou\, Pascal Contet\, Ihab Radwan\, Imbert Imbert\, Brice Kapel
 \, Pascal Corriu\, Mathias Imbert\, Djé Balèti\, Patrice Héral et Joan 
 Eche-Puig se rencontrent pour une nuit de création vivante\, où chaque a
 rtiste\, à travers ses propres mélodies\, tisse une fresque musicale uni
 que et inédite.\nUne constellation sétoise\, éphémère et vibrante\, r
 éunie pour faire résonner la Méditerranée dans un même souffle\, pré
 sentée par Séverine Ferrer\, qui mettra en lumière ces talents exceptio
 nnels.
GEO:43.39267539999999;3.6867343
LOCATION:Promenade Maréchal Leclerc 34200 Sète - FR
ORGANIZER:Bès Académie
END:VEVENT
END:VCALENDAR
