BEGIN:VCALENDAR
VERSION:2.0
CALSCALE:GREGORIAN
METHOD:PUBLISH
BEGIN:VEVENT
SUMMARY:Mucc Live in Helsinki
DTSTART:20260713T180000Z
DTSTAMP:20260424T111622Z
CATEGORIES:
DESCRIPTION:\n	 \n\nMucc is a Japanese rock band known for blending alte
 rnative metal\, industrial\, and experimental sounds.\n	Formed in 1997\, t
 he band gained recognition in the visual kei scene before evolving into a 
 more diverse musical style.\n	Their music often explores dark themes\, emo
 tional struggles\, and social issues.\n	With a long career\, they are cons
 idered one of the most influential bands in modern Japanese rock.\n\n	 \n
 \n	18.00: VIP:  includes Priority entrance + Hi-Touch + Solo ¨Photo (war
 ning\, this privilege must be purchased on top of General Admission)\n\n\n
 \n	18.30: Premium:  Includes 2nd Priority entrance + Hi-Touch  (warning\
 , this privilege must be purchased on top of General Admission)\n\n	 \n\n
 	19.00: General Admission\n\n	 \n\n	20.00: Show\n\n	 \n
LOCATION:Pälkäneentie 13 B 00510 Helsinki - FR
ORGANIZER:Envol Production
END:VEVENT
END:VCALENDAR
