BEGIN:VCALENDAR
VERSION:2.0
CALSCALE:GREGORIAN
METHOD:PUBLISH
BEGIN:VEVENT
SUMMARY:NUIT DES K N°98 - EN MAI FAIT CE QU'IL TE PLAIT !
DTSTART:20260522T190000Z
DTEND:20260523T010000Z
DTSTAMP:20260422T024546Z
CATEGORIES:
DESCRIPTION:\n\n\nNotre soirée mensuelle revient… sous le signe d'une l
 iberté toute relative \n\n“En mai\, fais ce qu’il te plaît”… à 
 condition de se rappeler qui mène le jeu.\nCar derrière cette promesse s
 e cache une vérité simple : ici\, ce sont les Dames qui décident.\n\nEn
 tre envies suggérées\, cadres posés et plaisirs guidés\, laissez-vous 
 porter… ou remettre à votre place avec élégance.\n\nEn mai\, le plais
 ir se mérite…\n\n\nNous vous fixons rendez-vous à La Nuit Des K \n\nSo
 irée spéciale Domination Féminine!\n\nGYNARCHIQUE alors messieurs dames
  soumis(e)s Sachez qu'ici ce sont les DOMINAS qui sont les reines du jeu !
 \n\nSOIRÉE ÉVIDEMMENT LGBT FRIENDLY !\n\nLa soirée est ouverte aux soum
 ises\, soumises et aux Dominatrices.\n\nAfin de respecter le principe des 
 soirées de Maîtresse K et du Cercle des Muses\, nous vous rappelons qu'i
 l s'agit d'une soirée 100% BDSM et non libertine.\n\nLes débutants sont 
 les bienvenus tout comme les "initiés"\n\nTout est possible mais rien n'e
 st obligatoire.\n\nOPEN BAR ET BUFFET À VOLONTÉ\n\nBOUTEILLE DE CHAMPAGN
 E NON COMPRISE / VENDU SUR PLACE OU A L'AVANCE POUR BENEFICIER DE TARIF PR
 IVILEGIE\n\nAdresse précise uniquement communiquée une semaine avant la 
 soirée.\n\nLe lieu " LE ROUGE" se trouve à PARIS dans le 11ème\n\nNOMBR
 E DE PLACES LIMITÉ\n\nAfin d'assurer un équilibre parfait entre soumises
 /soumises et dominatrices\n\nil y aura le même nombre de places pour homm
 es que pour femmes.\n\n				 \n\n\n\n		 \n\n\n	 \n
LOCATION:ADRESSE ENVOYE UNE SEMAINE AVANT L'EVENEMENT 75011  PARIS  - FR
ORGANIZER:Le cercle des muses 
END:VEVENT
END:VCALENDAR
