BEGIN:VCALENDAR
VERSION:2.0
CALSCALE:GREGORIAN
METHOD:PUBLISH
BEGIN:VEVENT
SUMMARY:Spectacle Mai 2026 - 10e anniversaire : Représentation du vendred
 i 20h00
DTSTART:20260523T000000Z
DTSTAMP:20260422T142322Z
CATEGORIES:
DESCRIPTION:Informations par rapport au spectacle :\nListe des groupes par
 ticipants à la représentation :\n\nLundi 17h  - Compétition contempora
 in \nLundi 19h  - Ballet lyrical adulte \nLundi 20h15 - Pointes 15 ans 
 et +\nMardi 16h00  - Hip-hop 11 ans et + \nMardi 18h15  - Compétition 
 hip-hop\nMercredi 19h00  - Pré-compétition contemporain \nMercredi 20h
   - Contemporain et jazz adulte \nJeudi 17h  - Hip-hop intermédiaire 
 \nJeudi 18h00  - Ballet débutant 8-12 ans \nJeudi 18h15 - Hip-hop 11 an
 s et + \nJeudi 19h30 - Pré-compétition hip-hop\n\n \nOuverture des por
 tes de la salle :\nLes portes de la salle ouvriront 30 minutes avant le sp
 ectacle. Le hall d’entrée ouvrira une heure avant la représentation po
 ur vous permettre d’acheter des articles à offrir en cadeau aux danseur
 s.\nDurée approximative du spectacle : 1h15 \n \nInformation par rappor
 t aux billets:\nPlacement en salle :\nLes billets sont numérotés et incl
 uent une lettre correspondant à la rangée. Le siège sélectionné lors 
 de l'achat devra être respecté dans la salle de spectacle.\n \nTarifica
 tion :\nLe prix d'entrée est le même pour les adultes et les enfants.\n
  \nInformations importantes pour les bébés (0-2 ans) :\n\nLes enfants d
 e 0 à 2 ans bénéficient d'une entrée gratuite\, mais un billet "Enfant
  0-2 ans" à 0 $ doit obligatoirement être sélectionné lors de l'achat.
 \nSans ce billet\, l’enfant ne pourra pas être admis en raison des limi
 tes de capacité imposées par le Service des incendies de la Ville de She
 rbrooke.\nLes enfants de 0 à 2 ans comptent dans la capacité maximale de
  la salle. Les billets "Enfant 0-2 ans" seront vérifiés à l'entrée pou
 r s'assurer qu'ils sont bien utilisés pour un enfant de cet âge.\nCes bi
 llets sont automatiquement numérotés par le système\, mais les bébés 
 doivent obligatoirement s'asseoir sur leur parent. Leur numéro de siège 
 correspond donc à celui du parent accompagnateur\, et non à celui inscri
 t sur leur billet.\n\n \nInformation importante pour les billets « faute
 uil roulant »:\nLes billets « Fauteuil roulant » sont strictement rése
 rvés aux personnes se déplaçant en fauteuil roulant. Ces places ne disp
 osent pas de siège ni de banc.\n \nAchat groupé recommandé :\nUne fois
  les billets achetés\, il ne sera pas possible de changer de place. Si vo
 us souhaitez être assis avec votre famille ou vos amis\, veuillez acheter
  vos billets ensemble afin de sélectionner des sièges côte à côte.\n
  \nBillets non remboursables :\nVeuillez noter que tous les billets sont 
 non remboursables.\n \nBillet obligatoire à l'entrée :\nAssurez-vous d'
 imprimer votre billet ou de l'avoir accessible sur votre téléphone pour 
 le présenter à l'entrée.\n \n 
LOCATION:200 Rue Terrill J1E 3B1 Sherbrooke - CA
ORGANIZER:Danse Ensemble Magog
END:VEVENT
END:VCALENDAR
