BEGIN:VCALENDAR
VERSION:2.0
CALSCALE:GREGORIAN
METHOD:PUBLISH
BEGIN:VEVENT
SUMMARY:Avant-première documentaire "Saint-Etienne 76 : l'histoire d'une 
 légende" à Saint-Etienne
DTSTART:20260506T183000Z
DTSTAMP:20260423T195030Z
CATEGORIES:
DESCRIPTION:Documentaire inédit : "Saint-Etienne 76 : l'histoire d'une l
 égende" \n \nCe documentaire revient sur l’épopée de l’AS Saint-
 Étienne lors de la saison 1975-1976 et sur l'engouement qu’a suscité c
 ette campagne européenne en France.\nEn ce printemps 1976\, dans les cour
 s d’école de France\, on s’enthousiasme\, on collectionne les cahiers
  à l’effigie des Verts\, les vignettes\, les maillots… Chacun le sien
 … Dominique Bathenay\, Oswaldo Piazza\, Ivan Ćurković\, Jean-Michel La
 rqué… Et puis il y a cette chanson « Allez les Verts » de Jacques Mon
 ty\, devenue hymne… 50 ans après la finale de la Coupe d’Europe des 
 clubs contre le Bayern Munich\, il reste une trace. Verte et indélébile.
  Un marqueur dans notre histoire commune\, qui agite les mémoires de ceux
  qui ont vécu ces événements et fait fantasmer ceux qui n’étaient m
 ême pas nés.
LOCATION:1 Cours Antoine Guichard 42008 Saint-Etienne - FR
ORGANIZER:ICI Auvergne-Rhône-Alpes
END:VEVENT
END:VCALENDAR
