BEGIN:VCALENDAR
VERSION:2.0
CALSCALE:GREGORIAN
METHOD:PUBLISH
BEGIN:VEVENT
SUMMARY: Conférence de presse / XXXIXᵉ édition du festival internation
 al Time in Jazz
DTSTART:20260427T090000Z
DTSTAMP:20260425T181558Z
CATEGORIES:
DESCRIPTION:\n	L’Institut culturel italien de Paris a le plaisir d’acc
 ueillir Paolo Fresu pour la présentation de la conférence de presse de l
 a XXXIXᵉ édition du Festival international Time in Jazz\, qui se tiendr
 a à Berchidda et dans d’autres localités du nord de la Sardaigne du 19
  au 21 juin et du 8 au 16 août.\n\n	Cette présentation sera également l
 ’occasion de raconter l’esprit de Time in Jazz — à la fois festival
  international et association éponyme — un projet culturel qui\, au fil
  des années\, a su conjuguer musique\, rencontres et diverses formes arti
 stiques\, en valorisant le territoire et en créant un dialogue constant e
 ntre artistes\, lieux et publics.\n\n	Seront dévoilés le thème\, les li
 eux et surtout les artistes de cette nouvelle édition.\n\n	Le choix de pr
 ésenter cette conférence de presse dans la capitale française s’inscr
 it dans la dimension cosmopolite qui caractérise depuis toujours Time in 
 Jazz.\n	Un festival qui respire des notes et des sons sans frontières.\n	
 Un festival ouvert à toutes les cultures.\n	Un festival en résonance ave
 c un monde en mouvement.\n
LOCATION:50\, rue de Varenne 75007 Paris - FR
ORGANIZER:Institut culturel italien de Paris
END:VEVENT
END:VCALENDAR
