BEGIN:VCALENDAR
VERSION:2.0
CALSCALE:GREGORIAN
METHOD:PUBLISH
BEGIN:VEVENT
SUMMARY:GENESIS II
DTSTART:20260529T183000Z
DTEND:20260530T183000Z
DTSTAMP:20260422T015412Z
CATEGORIES:
DESCRIPTION:GENESIS returns to Paris for a new series of performances.\nCr
 eated by Maison Enclave\, the work brings together ballet\, contemporary m
 ovement\, digital art and live sound within an immersive space where audie
 nce and performers share the same environment.\nThe body becomes architect
 ure with all dancers dressed in Rick Owens. Movement unfolds in close prox
 imity feeling you're on the stage. Sound\, light\, and presence evolve thr
 oughout the evening.\nThis new iteration introduces extended choreography\
 , new performers\, and a deeper exploration of rhythm and atmosphere. Each
  night develops as a continuous experience\, shifting from stillness into 
 intensity.\nFollowing the performance\, guests are invited to remain for a
 n afterparty within the space.
GEO:48.8533762;2.3717363
LOCATION:9 Passage du Cheval Blanc 75011 Paris - FR
ORGANIZER:Maison Enclave
END:VEVENT
END:VCALENDAR
