BEGIN:VCALENDAR
VERSION:2.0
CALSCALE:GREGORIAN
METHOD:PUBLISH
BEGIN:VEVENT
SUMMARY:Soirée Concert et Cocktail dînatoire à la balnéo
DTSTART:20260521T183000Z
DTEND:20260521T213000Z
DTSTAMP:20260426T010355Z
CATEGORIES:
DESCRIPTION:Jeudi 21 Mai 2026 — Soirée Concert & Cocktail Dinatoire à 
 la balnéo \nDe 20h30 à 23h30\nAu programme : \nAccès à l'espace bien 
 être pendant 3 heures \nCocktail dinatoire & Concert \nPrix :  35 € 
 par personne\nPlaces limitées ! 
GEO:44.8482616;-0.6518630999999999
LOCATION:60 Avenue du Truc 33700 Mérignac - FR
ORGANIZER:UCPA MERIGNAC
END:VEVENT
END:VCALENDAR
