BEGIN:VCALENDAR
VERSION:2.0
CALSCALE:GREGORIAN
METHOD:PUBLISH
BEGIN:VEVENT
SUMMARY:Agnès Jaoui | Rencontre & Concert
DTSTART:20260731T160000Z
DTEND:20260731T203000Z
DTSTAMP:20260425T154144Z
CATEGORIES:
DESCRIPTION:Soirée de clôture des Estivales du Haut-Calavon\n18h - Un ap
 éro avec Agnès JaouiConversation entre Agnès Jaoui\, actrice\, scénari
 ste\, réalisatrice\, dramaturge\, et Béatrice Delvaux\nParking des Estiv
 alesLieu de l'évènement: Amphithéâtre des Estivales\n20h45 - Concert d
 e clôtureCantatrice: Agnès JaouiAccompagnement vocal et piano: L’Ensem
 ble Canto Allegre\nParking des EstivalesLieu de l'évènement: Amphithéâ
 tre
GEO:43.936637;5.561774
LOCATION:Les Davids\, route de Banon 84750 Viens - FR
ORGANIZER:Estivales et Paysages
END:VEVENT
END:VCALENDAR
