BEGIN:VCALENDAR
VERSION:2.0
CALSCALE:GREGORIAN
METHOD:PUBLISH
BEGIN:VEVENT
SUMMARY:Afterwork Juin
DTSTART:20260610T170000Z
DTEND:20260610T200000Z
DTSTAMP:20260421T202830Z
CATEGORIES:
DESCRIPTION:\n\nLa CPME Paris a le plaisir de vous inviter à notre premi
 er afterwork de 2026 le :\n\n		 \n\n\nMercredi 10 juin à 19h\n\n			 \
 n\n\n\n			Notre équipe se réjouit de vous accueillir dans une atmosphèr
 e conviviale et chaleureuse\, propice à la détente et aux échanges entr
 e chefs d’entreprise. Cet afterwork est une excellente occasion d’él
 argir votre réseau professionnel et de découvrir de nouvelles perspectiv
 es.\n\n			L’afterwork sera introduit par des représentants de la BPRI.\
 n\n \n\nRendez-vous :\n\nChonbou\n5 rue Jules Lefebvre\, 75009 Paris\n\n\
 n		 \n\n- Événement réservé à nos adhérents -\n\n------------------
 --------------------------------------------------------------------------
 ---------------------------------------------\n\nCe moment d’échange se
 ra l’occasion de vous présenter les mandats patronaux dans le cadre de 
 nos actions en faveur du paritarisme. \n\n\n	 \n
LOCATION:5 rue Jules Lefebvre 75009 Paris - FR
ORGANIZER:CPME Paris
END:VEVENT
END:VCALENDAR
